BEGIN:VCALENDAR
VERSION:2.0
PRODID:-//Liberty Hill - Next Generation - ECPv6.0.12//NONSGML v1.0//EN
CALSCALE:GREGORIAN
METHOD:PUBLISH
X-ORIGINAL-URL:https://www.lhng.org
X-WR-CALDESC:Events for Liberty Hill - Next Generation
REFRESH-INTERVAL;VALUE=DURATION:PT1H
X-Robots-Tag:noindex
X-PUBLISHED-TTL:PT1H
BEGIN:VTIMEZONE
TZID:UTC
BEGIN:STANDARD
TZOFFSETFROM:+0000
TZOFFSETTO:+0000
TZNAME:UTC
DTSTART:20250101T000000
END:STANDARD
END:VTIMEZONE
BEGIN:VEVENT
DTSTART;TZID=UTC:20250531T090000
DTEND;TZID=UTC:20250531T160000
DTSTAMP:20260421T215650
CREATED:20250408T033148Z
LAST-MODIFIED:20250408T033148Z
UID:2202-1748682000-1748707200@www.lhng.org
SUMMARY:Walk for Cancer Awareness\, Screening & Mental Health Initiative!
DESCRIPTION:Walk for Cancer Awareness\, Screening & Mental Health Initiative!
URL:https://www.lhng.org/event/walk-for-cancer-awareness-screening-mental-health-initiative/
LOCATION:North Charleston Sports Complex\, 1455 Monitor St.\, North Charleston\, SC\, 29405\, United States
ATTACH;FMTTYPE=image/jpeg:https://www.lhng.org/wp-content/uploads/2025/04/walk_4_cancer-1.jpg
ORGANIZER;CN="Tony%20McGill":MAILTO:tmcgillmbm@hotmail.com
END:VEVENT
BEGIN:VEVENT
DTSTART;TZID=UTC:20250810T140000
DTEND;TZID=UTC:20250810T170000
DTSTAMP:20260421T215650
CREATED:20250724T205531Z
LAST-MODIFIED:20250724T205714Z
UID:2242-1754834400-1754845200@www.lhng.org
SUMMARY:4th Annual Back to School Rally
DESCRIPTION:Free and Open to All!
URL:https://www.lhng.org/event/4th-annual-back-to-school-rally/
LOCATION:Felix Pinckney Community Center\, 4764 Hassell Ave.\, North Charleston\, SC\, 29405\, United States
ATTACH;FMTTYPE=image/jpeg:https://www.lhng.org/wp-content/uploads/2025/07/BTS-Flyer.jpg
ORGANIZER;CN="Tony%20McGill":MAILTO:tmcgillmbm@hotmail.com
END:VEVENT
BEGIN:VEVENT
DTSTART;TZID=UTC:20250830T150000
DTEND;TZID=UTC:20250830T173000
DTSTAMP:20260421T215650
CREATED:20250724T212338Z
LAST-MODIFIED:20250725T232047Z
UID:2244-1756566000-1756575000@www.lhng.org
SUMMARY:2nd Annual Town Hall Meeting
DESCRIPTION:Free and Open to All!
URL:https://www.lhng.org/event/2nd-annual-town-hall-meeting/
LOCATION:Felix Pinckney Community Center\, 4764 Hassell Ave.\, North Charleston\, SC\, 29405\, United States
ATTACH;FMTTYPE=image/jpeg:https://www.lhng.org/wp-content/uploads/2025/07/2025-TH-Flyer.jpg
ORGANIZER;CN="Tony%20McGill":MAILTO:tmcgillmbm@hotmail.com
END:VEVENT
BEGIN:VEVENT
DTSTART;TZID=UTC:20251025T090000
DTEND;TZID=UTC:20251025T170000
DTSTAMP:20260421T215650
CREATED:20250724T212719Z
LAST-MODIFIED:20251022T155908Z
UID:2246-1761382800-1761411600@www.lhng.org
SUMMARY:Health Fair & October Festival
DESCRIPTION:SAVE THE DATE! \nFree and Open to All!
URL:https://www.lhng.org/event/health-fair-october-festival/
LOCATION:Felix Pinckney Community Center\, 4764 Hassell Ave.\, North Charleston\, SC\, 29405\, United States
ATTACH;FMTTYPE=image/jpeg:https://www.lhng.org/wp-content/uploads/2025/10/OCTOBER-FEST-ITINERARY-With-Image.jpg
ORGANIZER;CN="Tony%20McGill":MAILTO:tmcgillmbm@hotmail.com
END:VEVENT
BEGIN:VEVENT
DTSTART;TZID=UTC:20251107T070000
DTEND;TZID=UTC:20251107T170000
DTSTAMP:20260421T215650
CREATED:20250930T003513Z
LAST-MODIFIED:20250930T003513Z
UID:2297-1762498800-1762534800@www.lhng.org
SUMMARY:Annual FREE Foot Clinic
DESCRIPTION:The Foot Institute Foundation-Annual FREE Foot Clinic
URL:https://www.lhng.org/event/annual-free-foot-clinic/
LOCATION:Royal Baptist Family Life Center\, 4750 Abraham Avenue\, North Charleston\, 29405\, United States
ATTACH;FMTTYPE=image/jpeg:https://www.lhng.org/wp-content/uploads/2025/09/PFC-Foot-Clinic-2025.jpg
ORGANIZER;CN="Tony%20McGill":MAILTO:tmcgillmbm@hotmail.com
END:VEVENT
BEGIN:VEVENT
DTSTART;TZID=UTC:20251122T130000
DTEND;TZID=UTC:20251122T150000
DTSTAMP:20260421T215650
CREATED:20250724T212937Z
LAST-MODIFIED:20251022T160026Z
UID:2248-1763816400-1763823600@www.lhng.org
SUMMARY:2nd Annual Turkey Giveaway & Health Fair
DESCRIPTION:SAVE THE DATE! \nFree and Open to All!
URL:https://www.lhng.org/event/2nd-annual-turkey-giveaway-health-fair/
LOCATION:Felix Pinckney Community Center\, 4764 Hassell Ave.\, North Charleston\, SC\, 29405\, United States
ATTACH;FMTTYPE=image/jpeg:https://www.lhng.org/wp-content/uploads/2025/10/STD-Thanksgiving-Flyer-2025.jpg
ORGANIZER;CN="Tony%20McGill":MAILTO:tmcgillmbm@hotmail.com
END:VEVENT
BEGIN:VEVENT
DTSTART;TZID=UTC:20251219T130000
DTEND;TZID=UTC:20251219T150000
DTSTAMP:20260421T215650
CREATED:20250724T213208Z
LAST-MODIFIED:20250724T213208Z
UID:2250-1766149200-1766156400@www.lhng.org
SUMMARY:5th Annual Christmas Toy Giveaway
DESCRIPTION:SAVE THE DATE! \nFree and Open to All!
URL:https://www.lhng.org/event/5th-annual-christmas-toy-giveaway/
LOCATION:Felix Pinckney Community Center\, 4764 Hassell Ave.\, North Charleston\, SC\, 29405\, United States
ATTACH;FMTTYPE=image/jpeg:https://www.lhng.org/wp-content/uploads/2025/07/2025-Year-End-Events-LHNG_Page_3.jpg
ORGANIZER;CN="Tony%20McGill":MAILTO:tmcgillmbm@hotmail.com
END:VEVENT
BEGIN:VEVENT
DTSTART;VALUE=DATE:20260401
DTEND;VALUE=DATE:20260402
DTSTAMP:20260421T215650
CREATED:20260323T205807Z
LAST-MODIFIED:20260323T205807Z
UID:2369-1775001600-1775087999@www.lhng.org
SUMMARY:Scholarship Application Release Day!
DESCRIPTION:On behalf of William “Apple” Parson Family and Glynis Washington Family\, we respectfully invite you to support the 2026 William Parson and Glynis Washington Scholarship\, an essay-based scholarship competition created to assist graduating high school seniors who plan to attend a college or university beginning in August 2026. \nThis scholarships opportunity is open to all college-bound high school seniors in the Tri-County area. Through this essay competition\, Liberty Hill Next Generation is proud to encourage academic excellence\, leadership\, and community involvement while helping students pursue their higher education goals. \nThe Scholarship application will be released on April 1\, 2026\, and completed essays must be submitted by May 11\, 2026. The selected student will be formally recognized and awarded the scholarship on May 30\, 2026.
URL:https://www.lhng.org/event/scholarship-application-release-day/
ATTACH;FMTTYPE=image/jpeg:https://www.lhng.org/wp-content/uploads/2026/03/Scholarship-Purpose-due-05.11.26.jpg
ORGANIZER;CN="Tony%20McGill":MAILTO:tmcgillmbm@hotmail.com
END:VEVENT
BEGIN:VEVENT
DTSTART;TZID=UTC:20260411T120000
DTEND;TZID=UTC:20260411T140000
DTSTAMP:20260421T215650
CREATED:20260226T221132Z
LAST-MODIFIED:20260312T210510Z
UID:2337-1775908800-1775916000@www.lhng.org
SUMMARY:Community Care Day-Care on the Corner
DESCRIPTION:Care on the Corner is a simple\, dignity-centered outreach initiative serving individuals experiencing homelessness by meeting immediate needs while building trust and authentic community relationships. \n \nTo Volunteer (Click Link) \nTo Donate (Click Link) \nA pop-up\, boots-on-the-ground outreach that includes: \n\nBottled water | Socks | Hygiene kits | Light snack bags | Respectful conversation and presence
URL:https://www.lhng.org/event/community-care-day-care-on-the-corner/
LOCATION:3368 Rivers Avenue\, 3368 Rivers Avenue\, North Charleston\, SC\, 29405\, United States
ATTACH;FMTTYPE=image/jpeg:https://www.lhng.org/wp-content/uploads/2026/03/Care-on-the-Corner-flyer-design-Final.jpg
ORGANIZER;CN="Tony%20McGill":MAILTO:tmcgillmbm@hotmail.com
END:VEVENT
BEGIN:VEVENT
DTSTART;TZID=UTC:20260530T080000
DTEND;TZID=UTC:20260530T140000
DTSTAMP:20260421T215650
CREATED:20260312T074655Z
LAST-MODIFIED:20260312T210605Z
UID:2348-1780128000-1780149600@www.lhng.org
SUMMARY:WALK FOR CANCER & HEALTH FAIR
DESCRIPTION:To Volunteer (Click Link) \nTo Donate (Click Link)
URL:https://www.lhng.org/event/walk-for-cancer-health-fair/
LOCATION:North Charleston Sports Complex\, 1455 Monitor St.\, North Charleston\, SC\, 29405\, United States
ATTACH;FMTTYPE=image/jpeg:https://www.lhng.org/wp-content/uploads/2026/03/STD-Walk-for-Cancer-Flyer.jpg
ORGANIZER;CN="Tony%20McGill":MAILTO:tmcgillmbm@hotmail.com
END:VEVENT
END:VCALENDAR