BEGIN:VCALENDAR
VERSION:2.0
PRODID:-//Liberty Hill - Next Generation - ECPv6.0.12//NONSGML v1.0//EN
CALSCALE:GREGORIAN
METHOD:PUBLISH
X-ORIGINAL-URL:https://www.lhng.org
X-WR-CALDESC:Events for Liberty Hill - Next Generation
REFRESH-INTERVAL;VALUE=DURATION:PT1H
X-Robots-Tag:noindex
X-PUBLISHED-TTL:PT1H
BEGIN:VTIMEZONE
TZID:UTC
BEGIN:STANDARD
TZOFFSETFROM:+0000
TZOFFSETTO:+0000
TZNAME:UTC
DTSTART:20240101T000000
END:STANDARD
END:VTIMEZONE
BEGIN:VEVENT
DTSTART;TZID=UTC:20240803T150000
DTEND;TZID=UTC:20240803T170000
DTSTAMP:20260421T201459
CREATED:20240801T143110Z
LAST-MODIFIED:20240801T144000Z
UID:2079-1722697200-1722704400@www.lhng.org
SUMMARY:1st Annual Town Hall Meeting
DESCRIPTION:We’re excited to host a meaningful discussion with Mayor Reggie Burgess\, Councilman Brandon Hudson\, and Councilwoman Dr. Charmaine Palmer-Roberts about our community’s diverse needs and more. Everyone is welcome to take part in this event!
URL:https://www.lhng.org/event/1st-annual-town-hall-meeting/
LOCATION:Felix Pinckney Community Center\, 4764 Hassell Ave.\, North Charleston\, SC\, 29405\, United States
ATTACH;FMTTYPE=image/jpeg:https://www.lhng.org/wp-content/uploads/2024/08/IMG_4608.jpeg
END:VEVENT
BEGIN:VEVENT
DTSTART;TZID=UTC:20240811T140000
DTEND;TZID=UTC:20240811T170000
DTSTAMP:20260421T201459
CREATED:20240801T144359Z
LAST-MODIFIED:20240817T012558Z
UID:2085-1723384800-1723395600@www.lhng.org
SUMMARY:Back To School Rally!!!
DESCRIPTION:
URL:https://www.lhng.org/event/back-to-school-rally-2/
LOCATION:Felix Pinckney Community Center\, 4764 Hassell Ave.\, North Charleston\, SC\, 29405\, United States
ATTACH;FMTTYPE=image/jpeg:https://www.lhng.org/wp-content/uploads/2024/08/back-to-s.jpeg
END:VEVENT
END:VCALENDAR