BEGIN:VCALENDAR
VERSION:2.0
PRODID:-//Liberty Hill - Next Generation - ECPv6.0.12//NONSGML v1.0//EN
CALSCALE:GREGORIAN
METHOD:PUBLISH
X-WR-CALNAME:Liberty Hill - Next Generation
X-ORIGINAL-URL:https://www.lhng.org
X-WR-CALDESC:Events for Liberty Hill - Next Generation
REFRESH-INTERVAL;VALUE=DURATION:PT1H
X-Robots-Tag:noindex
X-PUBLISHED-TTL:PT1H
BEGIN:VTIMEZONE
TZID:UTC
BEGIN:STANDARD
TZOFFSETFROM:+0000
TZOFFSETTO:+0000
TZNAME:UTC
DTSTART:20250101T000000
END:STANDARD
END:VTIMEZONE
BEGIN:VEVENT
DTSTART;TZID=UTC:20250415T183000
DTEND;TZID=UTC:20250415T200000
DTSTAMP:20260421T153539
CREATED:20250408T022607Z
LAST-MODIFIED:20250408T023944Z
UID:2161-1744741800-1744747200@www.lhng.org
SUMMARY:Liberty Hill Community Meeting
DESCRIPTION:Liberty Hill Community Meeting – Free and Open to All
URL:https://www.lhng.org/event/liberty-hill-community-meeting/
LOCATION:Felix Pinckney Community Center\, 4764 Hassell Ave.\, North Charleston\, SC\, 29405\, United States
ATTACH;FMTTYPE=image/jpeg:https://www.lhng.org/wp-content/uploads/2025/04/meeting_flyer_2025.jpg
ORGANIZER;CN="Tony%20McGill":MAILTO:tmcgillmbm@hotmail.com
END:VEVENT
END:VCALENDAR