BEGIN:VCALENDAR
VERSION:2.0
PRODID:-//Liberty Hill - Next Generation - ECPv6.0.12//NONSGML v1.0//EN
CALSCALE:GREGORIAN
METHOD:PUBLISH
X-ORIGINAL-URL:https://www.lhng.org
X-WR-CALDESC:Events for Liberty Hill - Next Generation
REFRESH-INTERVAL;VALUE=DURATION:PT1H
X-Robots-Tag:noindex
X-PUBLISHED-TTL:PT1H
BEGIN:VTIMEZONE
TZID:UTC
BEGIN:STANDARD
TZOFFSETFROM:+0000
TZOFFSETTO:+0000
TZNAME:UTC
DTSTART:20250101T000000
END:STANDARD
END:VTIMEZONE
BEGIN:VEVENT
DTSTART;TZID=UTC:20250531T090000
DTEND;TZID=UTC:20250531T160000
DTSTAMP:20260421T171835
CREATED:20250408T033148Z
LAST-MODIFIED:20250408T033148Z
UID:2202-1748682000-1748707200@www.lhng.org
SUMMARY:Walk for Cancer Awareness\, Screening & Mental Health Initiative!
DESCRIPTION:Walk for Cancer Awareness\, Screening & Mental Health Initiative!
URL:https://www.lhng.org/event/walk-for-cancer-awareness-screening-mental-health-initiative/
LOCATION:North Charleston Sports Complex\, 1455 Monitor St.\, North Charleston\, SC\, 29405\, United States
ATTACH;FMTTYPE=image/jpeg:https://www.lhng.org/wp-content/uploads/2025/04/walk_4_cancer-1.jpg
ORGANIZER;CN="Tony%20McGill":MAILTO:tmcgillmbm@hotmail.com
END:VEVENT
END:VCALENDAR